BEGIN:VCALENDAR
PRODID:-//Ben Fortuna//iCal4j 1.0//EN
VERSION:2.0
CALSCALE:GREGORIAN
BEGIN:VTIMEZONE
TZID:Europe/Berlin
LAST-MODIFIED:20201010T011803Z
TZURL:http://tzurl.org/zoneinfo/Europe/Berlin
X-LIC-LOCATION:Europe/Berlin
X-PROLEPTIC-TZNAME:LMT
BEGIN:STANDARD
TZNAME:CET
TZOFFSETFROM:+005328
TZOFFSETTO:+0100
DTSTART:18930401T000000
END:STANDARD
BEGIN:DAYLIGHT
TZNAME:CEST
TZOFFSETFROM:+0100
TZOFFSETTO:+0200
DTSTART:19160430T230000
RDATE:19400401T020000
RDATE:19430329T020000
RDATE:19460414T020000
RDATE:19470406T030000
RDATE:19480418T020000
RDATE:19490410T020000
RDATE:19800406T020000
END:DAYLIGHT
BEGIN:STANDARD
TZNAME:CET
TZOFFSETFROM:+0200
TZOFFSETTO:+0100
DTSTART:19161001T010000
RDATE:19421102T030000
RDATE:19431004T030000
RDATE:19441002T030000
RDATE:19451118T030000
RDATE:19461007T030000
END:STANDARD
BEGIN:DAYLIGHT
TZNAME:CEST
TZOFFSETFROM:+0100
TZOFFSETTO:+0200
DTSTART:19170416T020000
RRULE:FREQ=YEARLY;UNTIL=19180415T010000Z;BYMONTH=4;BYDAY=3MO
END:DAYLIGHT
BEGIN:STANDARD
TZNAME:CET
TZOFFSETFROM:+0200
TZOFFSETTO:+0100
DTSTART:19170917T030000
RRULE:FREQ=YEARLY;UNTIL=19180916T010000Z;BYMONTH=9;BYDAY=3MO
END:STANDARD
BEGIN:DAYLIGHT
TZNAME:CEST
TZOFFSETFROM:+0100
TZOFFSETTO:+0200
DTSTART:19440403T020000
RRULE:FREQ=YEARLY;UNTIL=19450402T010000Z;BYMONTH=4;BYDAY=1MO
END:DAYLIGHT
BEGIN:DAYLIGHT
TZNAME:CEMT
TZOFFSETFROM:+0200
TZOFFSETTO:+0300
DTSTART:19450524T020000
RDATE:19470511T030000
END:DAYLIGHT
BEGIN:DAYLIGHT
TZNAME:CEST
TZOFFSETFROM:+0300
TZOFFSETTO:+0200
DTSTART:19450924T030000
RDATE:19470629T030000
END:DAYLIGHT
BEGIN:STANDARD
TZNAME:CET
TZOFFSETFROM:+0100
TZOFFSETTO:+0100
DTSTART:19460101T000000
RDATE:19800101T000000
END:STANDARD
BEGIN:STANDARD
TZNAME:CET
TZOFFSETFROM:+0200
TZOFFSETTO:+0100
DTSTART:19471005T030000
RRULE:FREQ=YEARLY;UNTIL=19491002T010000Z;BYMONTH=10;BYDAY=1SU
END:STANDARD
BEGIN:STANDARD
TZNAME:CET
TZOFFSETFROM:+0200
TZOFFSETTO:+0100
DTSTART:19800928T030000
RRULE:FREQ=YEARLY;UNTIL=19950924T010000Z;BYMONTH=9;BYDAY=-1SU
END:STANDARD
BEGIN:DAYLIGHT
TZNAME:CEST
TZOFFSETFROM:+0100
TZOFFSETTO:+0200
DTSTART:19810329T020000
RRULE:FREQ=YEARLY;BYMONTH=3;BYDAY=-1SU
END:DAYLIGHT
BEGIN:STANDARD
TZNAME:CET
TZOFFSETFROM:+0200
TZOFFSETTO:+0100
DTSTART:19961027T030000
RRULE:FREQ=YEARLY;BYMONTH=10;BYDAY=-1SU
END:STANDARD
END:VTIMEZONE
BEGIN:VEVENT
DTSTAMP:20260420T135444Z
DTSTART;TZID=Europe/Berlin:20261108T150000
DTEND;TZID=Europe/Berlin:20261108T170000
SUMMARY:Aladin
CREATED:20240402T120516Z
LAST-MODIFIED:20260318T082522Z
DESCRIPTION:Das Musical\n\n\nÜber den Mut\, das eigene Schicksal zu änder
 n: Im Musical-Highlight „Aladin“ taucht das Publikum ein in eine Welt vo
 ller Abenteuer und Magie. Eigens komponierte Musicalhits\, jede Menge Sp
 annung und noch mehr Humor versprechen beste Live-Unterhaltung für die g
 anze Familie!\n\nDas für seine fantasievollen Familienmusicals bekannte 
 Theater Liberi präsentiert die berühmte Geschichte aus 1001 Nacht in ein
 er temporeichen und modernen Version. Bestens ausgebildete Musicaldarste
 ller zeigen die abwechslungsreichen Facetten der beliebten Charaktere in
  diesem Märchen rund um Mut\, Selbstbestimmung und Freundschaft. Fantast
 ische Lichteffekte\, edle Kostüme sowie eindrucksvolle Musik und Choreog
 rafien erschaffen dabei die perfekte Kulisse für die geheimnisvolle Welt
  von Aladin\, Yasmin und Dschinni.\n\nAladin führt ein Leben als einfach
 er Straßenjunge\, bis sein Leben schlagartig auf den Kopf gestellt wird:
  Gerade erst hat er Prinzessin Yasmin kennengelernt\, die mit allen Mitt
 eln versucht\, ihr Volk vor dem bösen Zauberer Dschafar zu schützen\, da
  wird er selbst in dessen fiese Machenschaften verwickelt. Denn Dschafar
  will endlich den Sultan loswerden und die Macht mit Hilfe einer sagenum
 wobenen Lampe an sich reißen. Ausgerechnet Aladin soll ihm dabei helfen\
 , doch das Vorhaben geht schief und Aladin sitzt in einer Höhle fest.\nA
 uf der Suche nach einem Ausweg entdeckt er das Geheimnis der Wunderlampe
  und befreit den mächtigen Dschinni\, der sich schnell als echter Freund
  herausstellt. Aladins Probleme scheinen auf einen Schlag gelöst\, denn 
 wo ein Dschinni\, da auch drei Wünsche. Doch Magie allein wird nicht rei
 chen\, um Yasmin zu helfen und Dschafars finstere Pläne zu durchkreuzen…
 \n\nInfos\n\nEmpfohlen für Kinder ab 4 Jahren\n\nEinlass: 14 Uhr
LOCATION:Stadthalle
X-LOCATION-NAME:Stadthalle
X-STREET-ADDRESS:Hauptstraße 120
X-POSTAL-CODE:33378
X-LOCALITY:Rheda-Wiedenbrück
ORGANIZER;CN=Theater Liberi:mailto:info@theater-liberi.de
X-ORGANIZER-NAME:Theater Liberi
X-ORGANIZER-EMAIL:info@theater-liberi.de
X-ORGANIZER-TELEPHONE:+49 234 588357-0
X-ORGANIZER-FAXNUMBER:+49 234 588357-11
X-ORGANIZER-WEBSITE:https://www.theater-liberi.de/
X-ORGANIZER-ADDRESS-POSTALCODE:44793
X-ORGANIZER-ADDRESS-LOCALITY:Bochum
X-ORGANIZER-ADDRESS-STREET:Essener Straße 203
CONTACT:Theater Liberi\,info@theater-liberi.de\,+49 234 588357-0
X-CONTACT-GIVEN-NAME:Theater
X-CONTACT-FAMILY-NAME:Liberi
X-CONTACT-EMAIL:info@theater-liberi.de
X-CONTACT-TELEPHONE:+49 234 588357-0
URL:https://theater-liberi.de/musicals/aladin
X-IONAS-CATEGORY:Kunst & Kultur
CATEGORIES:Kunst & Kultur,Musical,Kinderspaß
ATTACH;FMTTYPE=image/jpeg:https://www.rheda-wiedenbrueck.de/kalender/term
 ine/stadthalle/fuer-kinder/2026-11-08-aladin/aladin-musical-motiv-1-quer
 -1080x1080px-theater-liberi-nilz-boehme.jpg?cid=rvf.4jht
UID:bb72914b-e062-4de8-bd98-f132e4fa3169
BEGIN:VALARM
TRIGGER:-P21D
ACTION:DISPLAY
DESCRIPTION:Benachrichtigung
END:VALARM
END:VEVENT
END:VCALENDAR
