BEGIN:VCALENDAR
PRODID:-//IONAS//TVM//DE
VERSION:2.0
CALSCALE:GREGORIAN
BEGIN:VTIMEZONE
TZID:Europe/Berlin
LAST-MODIFIED:20201010T011803Z
TZURL:http://tzurl.org/zoneinfo/Europe/Berlin
X-LIC-LOCATION:Europe/Berlin
X-PROLEPTIC-TZNAME:LMT
BEGIN:STANDARD
TZNAME:CET
TZOFFSETFROM:+005328
TZOFFSETTO:+0100
DTSTART:18930401T000000
END:STANDARD
BEGIN:DAYLIGHT
TZNAME:CEST
TZOFFSETFROM:+0100
TZOFFSETTO:+0200
DTSTART:19160430T230000
RDATE:19400401T020000
RDATE:19430329T020000
RDATE:19460414T020000
RDATE:19470406T030000
RDATE:19480418T020000
RDATE:19490410T020000
RDATE:19800406T020000
END:DAYLIGHT
BEGIN:STANDARD
TZNAME:CET
TZOFFSETFROM:+0200
TZOFFSETTO:+0100
DTSTART:19161001T010000
RDATE:19421102T030000
RDATE:19431004T030000
RDATE:19441002T030000
RDATE:19451118T030000
RDATE:19461007T030000
END:STANDARD
BEGIN:DAYLIGHT
TZNAME:CEST
TZOFFSETFROM:+0100
TZOFFSETTO:+0200
DTSTART:19170416T020000
RRULE:FREQ=YEARLY;UNTIL=19180415T010000Z;BYMONTH=4;BYDAY=3MO
END:DAYLIGHT
BEGIN:STANDARD
TZNAME:CET
TZOFFSETFROM:+0200
TZOFFSETTO:+0100
DTSTART:19170917T030000
RRULE:FREQ=YEARLY;UNTIL=19180916T010000Z;BYMONTH=9;BYDAY=3MO
END:STANDARD
BEGIN:DAYLIGHT
TZNAME:CEST
TZOFFSETFROM:+0100
TZOFFSETTO:+0200
DTSTART:19440403T020000
RRULE:FREQ=YEARLY;UNTIL=19450402T010000Z;BYMONTH=4;BYDAY=1MO
END:DAYLIGHT
BEGIN:DAYLIGHT
TZNAME:CEMT
TZOFFSETFROM:+0200
TZOFFSETTO:+0300
DTSTART:19450524T020000
RDATE:19470511T030000
END:DAYLIGHT
BEGIN:DAYLIGHT
TZNAME:CEST
TZOFFSETFROM:+0300
TZOFFSETTO:+0200
DTSTART:19450924T030000
RDATE:19470629T030000
END:DAYLIGHT
BEGIN:STANDARD
TZNAME:CET
TZOFFSETFROM:+0100
TZOFFSETTO:+0100
DTSTART:19460101T000000
RDATE:19800101T000000
END:STANDARD
BEGIN:STANDARD
TZNAME:CET
TZOFFSETFROM:+0200
TZOFFSETTO:+0100
DTSTART:19471005T030000
RRULE:FREQ=YEARLY;UNTIL=19491002T010000Z;BYMONTH=10;BYDAY=1SU
END:STANDARD
BEGIN:STANDARD
TZNAME:CET
TZOFFSETFROM:+0200
TZOFFSETTO:+0100
DTSTART:19800928T030000
RRULE:FREQ=YEARLY;UNTIL=19950924T010000Z;BYMONTH=9;BYDAY=-1SU
END:STANDARD
BEGIN:DAYLIGHT
TZNAME:CEST
TZOFFSETFROM:+0100
TZOFFSETTO:+0200
DTSTART:19810329T020000
RRULE:FREQ=YEARLY;BYMONTH=3;BYDAY=-1SU
END:DAYLIGHT
BEGIN:STANDARD
TZNAME:CET
TZOFFSETFROM:+0200
TZOFFSETTO:+0100
DTSTART:19961027T030000
RRULE:FREQ=YEARLY;BYMONTH=10;BYDAY=-1SU
END:STANDARD
END:VTIMEZONE
BEGIN:VEVENT
DTSTAMP:20260419T225357Z
DTSTART;TZID=Europe/Berlin:20261124T200000
DTEND;TZID=Europe/Berlin:20261124T223000
SUMMARY:Die großen 7: Fisch sucht Fahrrad
CREATED:20200420T102303Z
LAST-MODIFIED:20260323T131711Z
DESCRIPTION:Theater\n\n\nKomödie von Peter Quilter\nTournee-Theater THESP
 ISKARREN / Schlosspark Theater Berlin\n\nMit Janina Hartwig\, Caroline B
 eil\, Dieter Landuris\, André Vetters\n\nIhre Ehe ist gescheitert\, doch
  auf das Single-Leben haben Julia und Thomas auch keine Lust. Darum wage
 n sie den abenteuerlichen Schritt\, sich in fortgeschrittenem Alter noch
  einmal auf die Partnersuche zu begeben. Dass es dazu nicht nur Mut\, so
 ndern auch allerlei Ausdauer\, Leidensfähigkeit und sehr viel Optimismus
  braucht\, zeigt sich schon bei ihrem ersten Anlauf: \n\nSorgfältig gepl
 ant als „Sicherheitsnetz“ für den jeweils anderen\, wollen Julia und Tho
 mas ihre Dates im selben Restaurant abhalten – mit ebenso schweren Folge
 n für die beiden Partner-Anwärter wie für die Lachmuskeln der Zuschauer.
  Denn während zwischen Julia und ihrem selbstverliebten Gegenüber gar ni
 cht erst Sympathie oder gar Annäherung entsteht\, platzt Thomas‘ Begleit
 ung gleich mit ihrem unerfüllten Kinderwunsch und jeder Menge Sachkenntn
 is in puncto potenzsteigernde Lebensmittel heraus\, was den Abend gehöri
 g aus dem Ruder laufen und schließlich beide Ex-Ehepartner die Flucht er
 greifen lässt. \n\nAuch die folgenden Versuche\, sich im Gewirr aus Dati
 ng-Apps oder den gut gemeinten Verkupplungsversuchen der Nachbarin zurec
 htzufinden\, scheitern\, weil Julia und Thomas sich irgendwie immer im f
 alschen Moment über den Weg laufen und den reibungslosen Ablauf der Vera
 bredung stören. So leicht ist es eben gar nicht\, sich friedlich zu tren
 nen und anschließend auch noch befreundet zu sein – und zu zweit ist man
  immerhin weniger allein.\n\n \n\nPeter Quilter hat wieder einmal großes
  komödiantisches Talent bewiesen und eine temporeiche Farce für Vollblut
 schauspieler geschrieben. Mit viel Einfühlungsvermögen zeigt er die Abgr
 ünde von Paarungstänzen jenseits der 50 auf\, ohne seine Geschiedenen zu
  Geschädigten zu machen. Ob glücklich verheiratet\, getrennt\, in fester
  Partnerschaft lebend oder als Single – dieses Theaterstück geht alle an
  und lässt garantiert kein Auge trocken.\n\n\n\nDies ist eine Veranstalt
 ung der Theaterreihe \"Die großen Sieben\". Der Verkauf der Einzelkarten
  startet am 13.5.2026.
LOCATION:Stadthalle
X-LOCATION-NAME:Stadthalle
X-STREET-ADDRESS:Hauptstraße 120
X-POSTAL-CODE:33378
X-LOCALITY:Rheda-Wiedenbrück
ORGANIZER;CN=Flora Westfalica:mailto:info@flora-westfalica.de
X-ORGANIZER-NAME:Flora Westfalica
X-ORGANIZER-EMAIL:info@flora-westfalica.de
X-ORGANIZER-TELEPHONE:05242 9301-0
X-ORGANIZER-FAXNUMBER:05242 9301-20
X-IONAS-CATEGORY:Kunst & Kultur
CATEGORIES:Kunst & Kultur,Theater,Highlight
ATTACH;FMTTYPE=image/jpeg:https://www.rheda-wiedenbrueck.de/kalender/term
 ine/stadthalle/grosse-sieben/2026-11-24-die-grossen-7-fisch-sucht-fahrra
 d/k1600-3-fisch-sucht-fahhrad-c-derdehmelurbschat.jpg?cid=rvr.4jyr
UID:3e06cffa-ee5a-4eaf-81d4-f18dd7e65b40:2026-11-24
END:VEVENT
END:VCALENDAR
